BEGIN:VCALENDAR
VERSION:2.0
PRODID:-//Mairie de Soudan - ECPv5.4.0.2//NONSGML v1.0//EN
CALSCALE:GREGORIAN
METHOD:PUBLISH
X-WR-CALNAME:Mairie de Soudan
X-ORIGINAL-URL:https://www.communedesoudan44110.fr
X-WR-CALDESC:évènements pour Mairie de Soudan
BEGIN:VTIMEZONE
TZID:Europe/Paris
BEGIN:DAYLIGHT
TZOFFSETFROM:+0100
TZOFFSETTO:+0200
TZNAME:CEST
DTSTART:20260329T010000
END:DAYLIGHT
BEGIN:STANDARD
TZOFFSETFROM:+0200
TZOFFSETTO:+0100
TZNAME:CET
DTSTART:20261025T010000
END:STANDARD
END:VTIMEZONE
BEGIN:VEVENT
DTSTART;VALUE=DATE:20260915
DTEND;VALUE=DATE:20260916
DTSTAMP:20260420T142705
CREATED:20251230T144110Z
LAST-MODIFIED:20251230T144110Z
UID:6553-1789430400-1789516799@www.communedesoudan44110.fr
SUMMARY:Concours de belote - SOL'ZEN AMITIES
DESCRIPTION:
URL:https://www.communedesoudan44110.fr/evenement/concours-de-belote-solzen-amities-2/
LOCATION:Salle Polyvalente l’Agora\, rue de l'Abbé Trigodet\, SOUDAN\, 44110\, France
END:VEVENT
END:VCALENDAR